BEGIN:VCALENDAR
VERSION:2.0
PRODID:-//wp-events-plugin.com//5.99912//EN
TZID:Europe/Berlin
X-WR-TIMEZONE:Europe/Berlin
BEGIN:VEVENT
UID:0-349@dewangen.albverein.eu
DTSTART;TZID=Europe/Berlin;VALUE=DATE:20260515
DTEND;TZID=Europe/Berlin;VALUE=DATE:20260518
DTSTAMP:20260421T072655Z
URL:https://dewangen.albverein.eu/events/auf-dem-hw1-die-letzten-3-etappen
 -zu-unserem-ziel-tuttlingen/
SUMMARY:Auf dem HW1 - die letzten 3 Etappen zu unserem Ziel Tuttlingen
DESCRIPTION:Wanderbegleitung: Manfred Göhl\nEin fröhliches Auf und Ab cha
 rakterisiert den bisher zurückgelegten\nWegverlauf wohl am besten. Es gil
 t\, 8.900 Höhenmeter hinauf und\n8.600 hinunter zu meistern und sich imme
 r wieder von gigantischen\nAussichten loszureißen.\nDer Albsteig HW1 ist 
 ein lohnendes Naturerlebnis für geübte\nMittelgebirgswanderer\, die sich
  nicht scheuen\, auch mal an ihre\nGrenzen zu gehen\, und bietet eine gelu
 ngene Kombination aus Natur\,\nKultur und sportlicher Herausforderung.
LOCATION:Wanderheim Welland\, Rotfeldstraße 21\, Dewangen\, 73434\, Deutsc
 hland
GEO:48.86953;10.032910000000015
X-APPLE-STRUCTURED-LOCATION;VALUE=URI;X-ADDRESS=Rotfeldstraße 21\, Dewange
 n\, 73434\, Deutschland;X-APPLE-RADIUS=100;X-TITLE=Wanderheim Welland:geo:
 48.86953,10.032910000000015
END:VEVENT
BEGIN:VTIMEZONE
TZID:Europe/Berlin
X-LIC-LOCATION:Europe/Berlin
BEGIN:DAYLIGHT
DTSTART:20260329T030000
TZOFFSETFROM:+0100
TZOFFSETTO:+0200
TZNAME:CEST
END:DAYLIGHT
END:VTIMEZONE
END:VCALENDAR