BEGIN:VCALENDAR
VERSION:2.0
PRODID:-//wp-events-plugin.com//5.99912//EN
TZID:Europe/Berlin
X-WR-TIMEZONE:Europe/Berlin
BEGIN:VEVENT
UID:0-346@dewangen.albverein.eu
DTSTART;TZID=Europe/Berlin;VALUE=DATE:20260503
DTEND;TZID=Europe/Berlin;VALUE=DATE:20260504
DTSTAMP:20260421T072112Z
URL:https://dewangen.albverein.eu/events/auf-dem-nordrandweg-hw1/
SUMMARY:Auf dem Nordrandweg HW1
DESCRIPTION:Wanderbegleitung: Manfred Göhl\nTreffpunkt Wanderheim Welland 
 um 07:00 Uhr\nDer Albsteig ist eine Herausforderung und ein absolutes Muss
  für jeden\nWanderfreund. Der Albsteig ist der älteste Hauptwanderweg de
 s Schwäbischen\nAlbvereins und führt von Donauwörth nach Tuttlingen. Da
 bei steigt er auf bis zu\n1015m hinauf. Auf seinem Weg entlang des nördli
 chen Randes\nder Schwäbischen Alb bietet er alles was das Wanderherz bege
 hrt: dichte\nWälder\, helle Wiesen\, schmale Bergwege und von Wurzeln dur
 chzogenen\nNaturpfade.
LOCATION:Wanderheim Welland\, Rotfeldstraße 21\, Dewangen\, 73434\, Deutsc
 hland
GEO:48.86953;10.032910000000015
X-APPLE-STRUCTURED-LOCATION;VALUE=URI;X-ADDRESS=Rotfeldstraße 21\, Dewange
 n\, 73434\, Deutschland;X-APPLE-RADIUS=100;X-TITLE=Wanderheim Welland:geo:
 48.86953,10.032910000000015
END:VEVENT
BEGIN:VTIMEZONE
TZID:Europe/Berlin
X-LIC-LOCATION:Europe/Berlin
BEGIN:DAYLIGHT
DTSTART:20260329T030000
TZOFFSETFROM:+0100
TZOFFSETTO:+0200
TZNAME:CEST
END:DAYLIGHT
END:VTIMEZONE
END:VCALENDAR