BEGIN:VCALENDAR
VERSION:2.0
PRODID:-//wp-events-plugin.com//5.99912//EN
TZID:Europe/Berlin
X-WR-TIMEZONE:Europe/Berlin
BEGIN:VEVENT
UID:0-345@dewangen.albverein.eu
DTSTART;TZID=Europe/Berlin:20260428T100000
DTEND;TZID=Europe/Berlin:20260428T150000
DTSTAMP:20260421T071934Z
URL:https://dewangen.albverein.eu/events/frauen-spezial-2/
SUMMARY:Frauen -Spezial
DESCRIPTION:Maisenhäuser\n\nIm schönen Kochertal bei Untergröningen lieg
 t das Kleinod Maisenhäuser\, mit\ngleichgenannten See. Ein großes Waldst
 ück das immer wieder durch Taleinschnitte\nmit schönen Ausblicken einlä
 dt. Begeben wir uns auf eine Wanderung .Circa 9 km.\nWenn jeder eine Klein
 igkeit dazu beiträgt haben wir ein kleines Büfett\, an dem sich\njeder b
 edienen kann.\nAuf dem Rückweg besuchen wir die Jakobuskapelle mit dem H
 ühnerwunder von\nSieger Köder.\nTreffpunkt Wanderheim Welland um 10:00 U
 hr\nWanderbegleitung: Erna Nuding
LOCATION:Wanderheim Welland\, Rotfeldstraße 21\, Dewangen\, 73434\, Deutsc
 hland
GEO:48.86953;10.032910000000015
X-APPLE-STRUCTURED-LOCATION;VALUE=URI;X-ADDRESS=Rotfeldstraße 21\, Dewange
 n\, 73434\, Deutschland;X-APPLE-RADIUS=100;X-TITLE=Wanderheim Welland:geo:
 48.86953,10.032910000000015
END:VEVENT
BEGIN:VTIMEZONE
TZID:Europe/Berlin
X-LIC-LOCATION:Europe/Berlin
BEGIN:DAYLIGHT
DTSTART:20260329T030000
TZOFFSETFROM:+0100
TZOFFSETTO:+0200
TZNAME:CEST
END:DAYLIGHT
END:VTIMEZONE
END:VCALENDAR