BEGIN:VCALENDAR
VERSION:2.0
PRODID:-//wp-events-plugin.com//5.99912//EN
TZID:Europe/Berlin
X-WR-TIMEZONE:Europe/Berlin
BEGIN:VEVENT
UID:0-350@dewangen.albverein.eu
DTSTART;TZID=Europe/Berlin:20260610T140000
DTEND;TZID=Europe/Berlin:20260610T170000
DTSTAMP:20260421T072806Z
URL:https://dewangen.albverein.eu/events/im-quellgebiet-der-buehler/
SUMMARY:Im Quellgebiet der Bühler
DESCRIPTION:Treffpunkt Wanderheim Welland um 14:00 Uhr Es umgeben den Wande
 rer\nentlegene Wälder und gerodete Höhen. Von diesen reicht der Blick we
 it über das\nAlbvorland und bis zur Alb. Besonders eindrucksvoll ist auch
  das tief\neingeschnittene und siedlungsarme Tal der Blinden Rot. Wanderbe
 gleitung: Klara\nund Manfred Göhl
LOCATION:Wanderheim Welland\, Rotfeldstraße 21\, Dewangen\, 73434\, Deutsc
 hland
GEO:48.86953;10.032910000000015
X-APPLE-STRUCTURED-LOCATION;VALUE=URI;X-ADDRESS=Rotfeldstraße 21\, Dewange
 n\, 73434\, Deutschland;X-APPLE-RADIUS=100;X-TITLE=Wanderheim Welland:geo:
 48.86953,10.032910000000015
END:VEVENT
BEGIN:VTIMEZONE
TZID:Europe/Berlin
X-LIC-LOCATION:Europe/Berlin
BEGIN:DAYLIGHT
DTSTART:20260329T030000
TZOFFSETFROM:+0100
TZOFFSETTO:+0200
TZNAME:CEST
END:DAYLIGHT
END:VTIMEZONE
END:VCALENDAR