BEGIN:VCALENDAR
VERSION:2.0
PRODID:-//wp-events-plugin.com//5.99912//EN
TZID:Europe/Berlin
X-WR-TIMEZONE:Europe/Berlin
BEGIN:VEVENT
UID:0-348@dewangen.albverein.eu
DTSTART;TZID=Europe/Berlin;VALUE=DATE:20260531
DTEND;TZID=Europe/Berlin;VALUE=DATE:20260601
DTSTAMP:20260421T072539Z
URL:https://dewangen.albverein.eu/events/loewenpfad-berta-hoernle-tour-2/
SUMMARY:Löwenpfad/ Berta-Hörnle-Tour
DESCRIPTION:Traumhafte Aussichten ins Vorland der schwäbischen Alb\n14\,5 
 km\, Gehzeit 4\,5 Std.\, Auf-/Abstieg 357 hm\nWanderbegleitung: Klara und 
 Manfred Göhl\nTreffpunkt: Wanderheim Welland um 10:00 Uhr
LOCATION:Wanderheim Welland\, Rotfeldstraße 21\, Dewangen\, 73434\, Deutsc
 hland
GEO:48.86953;10.032910000000015
X-APPLE-STRUCTURED-LOCATION;VALUE=URI;X-ADDRESS=Rotfeldstraße 21\, Dewange
 n\, 73434\, Deutschland;X-APPLE-RADIUS=100;X-TITLE=Wanderheim Welland:geo:
 48.86953,10.032910000000015
END:VEVENT
BEGIN:VTIMEZONE
TZID:Europe/Berlin
X-LIC-LOCATION:Europe/Berlin
BEGIN:DAYLIGHT
DTSTART:20260329T030000
TZOFFSETFROM:+0100
TZOFFSETTO:+0200
TZNAME:CEST
END:DAYLIGHT
END:VTIMEZONE
END:VCALENDAR